BEGIN:VCALENDAR
VERSION:2.0
PRODID:-//Tartu Täiskasvanute Gümnaasium - ECPv6.15.20//NONSGML v1.0//EN
CALSCALE:GREGORIAN
METHOD:PUBLISH
X-WR-CALNAME:Tartu Täiskasvanute Gümnaasium
X-ORIGINAL-URL:https://www.ag.tartu.ee
X-WR-CALDESC:Events for Tartu Täiskasvanute Gümnaasium
REFRESH-INTERVAL;VALUE=DURATION:PT1H
X-Robots-Tag:noindex
X-PUBLISHED-TTL:PT1H
BEGIN:VTIMEZONE
TZID:Europe/Tallinn
BEGIN:DAYLIGHT
TZOFFSETFROM:+0200
TZOFFSETTO:+0300
TZNAME:EEST
DTSTART:20250330T010000
END:DAYLIGHT
BEGIN:STANDARD
TZOFFSETFROM:+0300
TZOFFSETTO:+0200
TZNAME:EET
DTSTART:20251026T010000
END:STANDARD
BEGIN:DAYLIGHT
TZOFFSETFROM:+0200
TZOFFSETTO:+0300
TZNAME:EEST
DTSTART:20260329T010000
END:DAYLIGHT
BEGIN:STANDARD
TZOFFSETFROM:+0300
TZOFFSETTO:+0200
TZNAME:EET
DTSTART:20261025T010000
END:STANDARD
BEGIN:DAYLIGHT
TZOFFSETFROM:+0200
TZOFFSETTO:+0300
TZNAME:EEST
DTSTART:20270328T010000
END:DAYLIGHT
BEGIN:STANDARD
TZOFFSETFROM:+0300
TZOFFSETTO:+0200
TZNAME:EET
DTSTART:20271031T010000
END:STANDARD
END:VTIMEZONE
BEGIN:VEVENT
DTSTART;TZID=Europe/Tallinn:20260427T100000
DTEND;TZID=Europe/Tallinn:20260427T150000
DTSTAMP:20260424T021312
CREATED:20260401T115316Z
LAST-MODIFIED:20260401T115318Z
UID:11229-1777284000-1777302000@www.ag.tartu.ee
SUMMARY:RE Inglise keel
DESCRIPTION:Inglise keele riigieksam
URL:https://www.ag.tartu.ee/event/re-inglise-keel/
END:VEVENT
BEGIN:VEVENT
DTSTART;TZID=Europe/Tallinn:20260429T100000
DTEND;TZID=Europe/Tallinn:20260429T150000
DTSTAMP:20260424T021312
CREATED:20260401T115936Z
LAST-MODIFIED:20260401T115938Z
UID:11235-1777456800-1777474800@www.ag.tartu.ee
SUMMARY:PK Matemaatika eksam
DESCRIPTION:Põhikooli lõpueksam: matemaatika
URL:https://www.ag.tartu.ee/event/pk-matemaatika-eksam/
END:VEVENT
BEGIN:VEVENT
DTSTART;TZID=Europe/Tallinn:20260506T100000
DTEND;TZID=Europe/Tallinn:20260506T150000
DTSTAMP:20260424T021312
CREATED:20260401T120122Z
LAST-MODIFIED:20260401T120125Z
UID:11237-1778061600-1778079600@www.ag.tartu.ee
SUMMARY:PK Valikeksam
DESCRIPTION:Põhikooli lõpueksam: valikaine eksam
URL:https://www.ag.tartu.ee/event/pk-valikeksam/
END:VEVENT
BEGIN:VEVENT
DTSTART;TZID=Europe/Tallinn:20260511T000000
DTEND;TZID=Europe/Tallinn:20260514T235959
DTSTAMP:20260424T021312
CREATED:20260105T070619Z
LAST-MODIFIED:20260105T070841Z
UID:7848-1778457600-1778803199@www.ag.tartu.ee
SUMMARY:IV tsükli arvestused
DESCRIPTION:IV tsükli arvestuste nädal
URL:https://www.ag.tartu.ee/event/iv-tsukli-arvestused/
END:VEVENT
BEGIN:VEVENT
DTSTART;TZID=Europe/Tallinn:20260520T100000
DTEND;TZID=Europe/Tallinn:20260520T150000
DTSTAMP:20260424T021312
CREATED:20260401T115420Z
LAST-MODIFIED:20260401T115422Z
UID:11231-1779271200-1779289200@www.ag.tartu.ee
SUMMARY:RE Matemaatika
DESCRIPTION:Matemaatika riigieksam
URL:https://www.ag.tartu.ee/event/re-matemaatika/
END:VEVENT
BEGIN:VEVENT
DTSTART;TZID=Europe/Tallinn:20260528T000000
DTEND;TZID=Europe/Tallinn:20260529T235959
DTSTAMP:20260424T021312
CREATED:20260401T120227Z
LAST-MODIFIED:20260401T120229Z
UID:11239-1779926400-1780099199@www.ag.tartu.ee
SUMMARY:UPT kaitsmised
DESCRIPTION:Lõputööde kaitsmised
URL:https://www.ag.tartu.ee/event/upt-kaitsmised/
END:VEVENT
END:VCALENDAR